BEGIN:VCALENDAR
VERSION:2.0
PRODID:-//junglecity.com - ECPv6.15.12.2//NONSGML v1.0//EN
CALSCALE:GREGORIAN
METHOD:PUBLISH
X-WR-CALNAME:junglecity.com
X-ORIGINAL-URL:https://www.junglecity.com
X-WR-CALDESC:junglecity.com のイベント
REFRESH-INTERVAL;VALUE=DURATION:PT1H
X-Robots-Tag:noindex
X-PUBLISHED-TTL:PT1H
BEGIN:VTIMEZONE
TZID:America/Los_Angeles
BEGIN:DAYLIGHT
TZOFFSETFROM:-0800
TZOFFSETTO:-0700
TZNAME:PDT
DTSTART:20250309T100000
END:DAYLIGHT
BEGIN:STANDARD
TZOFFSETFROM:-0700
TZOFFSETTO:-0800
TZNAME:PST
DTSTART:20251102T090000
END:STANDARD
BEGIN:DAYLIGHT
TZOFFSETFROM:-0800
TZOFFSETTO:-0700
TZNAME:PDT
DTSTART:20260308T100000
END:DAYLIGHT
BEGIN:STANDARD
TZOFFSETFROM:-0700
TZOFFSETTO:-0800
TZNAME:PST
DTSTART:20261101T090000
END:STANDARD
BEGIN:DAYLIGHT
TZOFFSETFROM:-0800
TZOFFSETTO:-0700
TZNAME:PDT
DTSTART:20270314T100000
END:DAYLIGHT
BEGIN:STANDARD
TZOFFSETFROM:-0700
TZOFFSETTO:-0800
TZNAME:PST
DTSTART:20271107T090000
END:STANDARD
END:VTIMEZONE
BEGIN:VEVENT
DTSTART;TZID=America/Los_Angeles:20261001T100000
DTEND;TZID=America/Los_Angeles:20261001T170000
DTSTAMP:20260421T122042
CREATED:20260111T221907Z
LAST-MODIFIED:20260111T221908Z
UID:228974-1790848800-1790874000@www.junglecity.com
SUMMARY:シアトル日本庭園　無料入園日
DESCRIPTION:シアトル日本庭園は、日本の著名な造園家、飯田十基（いいだ じゅうき）氏の指導のもと設計された日本庭園。ワシントン・パーク樹木園内に1960年に開園し、約3.5エーカー（約1.4ヘクタール）の敷地には日本の伝統的なデザインが施されています。 \n\n\n\n \n\n\n\n庭園内には、曲がりくねった小道や石灯籠、色鮮やかな鯉が泳ぐ中央の池があり、春の桜、秋の紅葉、冬の静寂など、四季折々の変化が楽しめます。 \n\n\n\n \n\n\n\nまた、茶道や芸術作品の展示、ガイドツアーなどのイベントも開催され、日本文化や庭園哲学を深く学ぶ機会も提供されています。 \n\n\n\n \n\n\n\n\n\n \n\n\n\n\n\n \n\n\n			\n				\n					あわせて読みたい\n										\n						シアトルとその近郊にある美しい日本庭園や植物園\n						シアトルとその近郊には、伝統的な日本庭園や美しいバラ園、シャクナゲ園、そして研究機関として世界的に評価される植物園が数多く点在しています。これらの庭園では、…
URL:https://www.junglecity.com/event/japanese-garden-free-2026-10/
LOCATION:The Seattle Japanese Garden\, 1075 E Lk Washington Blvd\, Seattle\, WA 98112\, Seattle\, WASHINGTON\, 98112\, 米国
ATTACH;FMTTYPE=image/jpeg:https://www.junglecity.com/wp-content/uploads/2025/02/seattle-japanese-garden-15.jpg
END:VEVENT
BEGIN:VEVENT
DTSTART;TZID=America/Los_Angeles:20261001T100000
DTEND;TZID=America/Los_Angeles:20261001T190000
DTSTAMP:20260421T122042
CREATED:20260111T202759Z
LAST-MODIFIED:20260111T202800Z
UID:228852-1790848800-1790881200@www.junglecity.com
SUMMARY:ヘンリー・アートギャラリー 無料入館日
DESCRIPTION:ヘンリー・アートギャラリーは、ワシントン大学にある、現代アートにフォーカスしたアートギャラリーです。1926年にシアトルの実業家ホレース・C・ヘンリー氏とその妻スーザンが収集した178点の美術作品をワシントン大学に寄贈し、建設資金も提供したことにより、新しい建物が建設され、1927年2月10日に一般公開されました。 \n\n\n\n \n\n\n\n設立当初から、ヘンリー・アートギャラリーは地域で初めて世界的に有名な現代アーティストを紹介し、新進気鋭の才能を支援し、著名なアーティストによる新作を初公開しています。また、パシフィック・ノースウェストの重要な新進アーティストの紹介にも努めています。 \n\n\n\n \n\n\n\n1997年には大規模な拡張工事が完了し、展示や公開プログラムを拡充し、所蔵作品の保存と展示が強化されました。2003年にはジェームズ・タレルによる『スカイスペース ライト・レイン』という没入型彫刻が完成し、名所となっています。 \n\n\n\n会場
URL:https://www.junglecity.com/event/henry-art-gallery-free-2026-10/
LOCATION:Henry Art Gallery\, 15th Ave NE & University of Washington\, NE 41st St\, Seattle\, Washington\, 98195\, United States
ATTACH;FMTTYPE=image/jpeg:https://www.junglecity.com/wp-content/uploads/2024/11/henry-art-1.jpg
END:VEVENT
BEGIN:VEVENT
DTSTART;TZID=America/Los_Angeles:20261001T100000
DTEND;TZID=America/Los_Angeles:20261001T200000
DTSTAMP:20260421T122042
CREATED:20260111T202428Z
LAST-MODIFIED:20260111T202429Z
UID:228832-1790848800-1790884800@www.junglecity.com
SUMMARY:バーク博物館　無料入館日
DESCRIPTION:毎月第1木曜日は、ワシントン大学のキャンパスにあるバーク博物館の無料入館日。 \n\n\n\n \n\n\n\n1階から4階まである展示では、ワシントン州で発掘された化石、在来植物、自然の変化、開発の歴史、ネイティブ・アメリカンの芸術と歴史などについて学ぶことができます。 \n\n\n\n \n\n\n\n1階にあるカフェ『Off the Rez』で、ネイティブ・アメリカンの伝統的なフライブレッドをぜひ。 \n\n\n\n \n\n\n\nバーク博物館は、若手博物学者が構成する Young Naturalists Society によってワシントン大学のキャンパスに設立され、1899年にワシントン州議会によってワシントン州立の博物館となりました。2019年10月に現在の建物が完成し、移転オープンしました。 \n\n\n\n \n\n\n\n【駐車】 路上駐車・有料駐車場
URL:https://www.junglecity.com/event/burke-museum-free-2026-10/
LOCATION:Burke Museum\, 17th Avenue NE & NE 45th Street\, Seattle\, ワシントン\, 98195\, 米国
ATTACH;FMTTYPE=image/jpeg:https://www.junglecity.com/wp-content/uploads/2019/10/burke-museum-2.jpg
END:VEVENT
BEGIN:VEVENT
DTSTART;TZID=America/Los_Angeles:20261001T170000
DTEND;TZID=America/Los_Angeles:20261001T200000
DTSTAMP:20260421T122042
CREATED:20260111T203703Z
LAST-MODIFIED:20260111T203703Z
UID:228895-1790874000-1790884800@www.junglecity.com
SUMMARY:シアトル歴史産業博物館（MOHAI）無料入館日（第1木曜 午後5時〜午後8時）
DESCRIPTION:シアトルを中心とした米国北西部の産業と歴史にまつわる展示が楽しめるシアトル歴史産業博物館。地元では頭文字を取って、『MOHAI』（モハイ）と呼ばれています。 \n\n\n\n \n\n\n\n海や湖に囲まれた土地ならではの海洋産業とのかかわり『Maritime Seattle』、シアトルの歴史を学べる展示 『True Northwest』、世界の人々に影響を与えたシアトル発の発明を紹介する 『Bezos Center for Innovation』 などの常設展示のほか、期間限定の特別展示も楽しめます。 \n\n\n\n \n\n\n\n【開館時間】 10am-8pm ※常設展が無料の時間は5pm-8pm【入館料】 常設展は無料、特別展は別料金【駐車】 有料路上駐車・有料駐車場
URL:https://www.junglecity.com/event/free-admission-mohai-2026-10/
LOCATION:Museum of History & Industry\, 860 Terry Avenue North\, Seattle\, ワシントン
ATTACH;FMTTYPE=image/jpeg:https://www.junglecity.com/wp-content/uploads/2021/07/mohai-10.jpg
END:VEVENT
BEGIN:VEVENT
DTSTART;TZID=America/Los_Angeles:20261001T170000
DTEND;TZID=America/Los_Angeles:20261001T210000
DTSTAMP:20260421T122042
CREATED:20260111T201603Z
LAST-MODIFIED:20260113T224509Z
UID:228793-1790874000-1790888400@www.junglecity.com
SUMMARY:パイオニア・スクエア　アートウォーク
DESCRIPTION:シアトルのパイオニア・スクエアで毎月第1木曜日に開催される「ファースト・サーズデー・アートウォーク（First Thursday Art Walk）」。 \n\n\n\n \n\n\n\n1981年から続く、全米で最も歴史の長いアートウォークです。パイオニア・スクエアにある多数のギャラリー、アートスタジオ、地元ビジネスをそれぞれのペースで巡り、アート作品を鑑賞したり、アーティストと直接交流したりすることができるようになっています。地元のカフェやショップとのコラボも多く、夕方から夜にかけてカルチャーとコミュニティが融合する時間を楽しめます。 \n\n\n\nアクセス・駐車情報\n\n\n\n午後5時〜10時の間、指定の駐車場にて無料駐車が可能です。参加ギャラリーやショップなどで無料駐車引換券（Free Parking Voucher）を受け取って記入し、帰宅する際に駐車場で係員に渡すことで、無料駐車が適用されます。詳細はこちら。 \n\n\n\n\nFrye Garage（117 3rd Avenue South）\n\n\n\nButler Garage（114 James Street）\n\n\n\n450 Alaskan（450 Alaskan Way）※ King Street に入口あり\n\n\n\n\n \n\n\n\n会場\n\n\n\nパイオニア・スクエア全体が会場となり、点在しているギャラリーで作品を展示しています。詳細は公式サイトでご覧ください。
URL:https://www.junglecity.com/event/first-thursday-art-walk-2026-10/
LOCATION:Pioneer Square/Actualize AiR\, 112 Prefontaine Place South\, Seattle\, Washington\, United States
ATTACH;FMTTYPE=image/jpeg:https://www.junglecity.com/wp-content/uploads/2025/04/pioneer-square-art-walk-1.jpg
END:VEVENT
BEGIN:VEVENT
DTSTART;TZID=America/Los_Angeles:20261001T170000
DTEND;TZID=America/Los_Angeles:20261001T210000
DTSTAMP:20260421T122042
CREATED:20260111T203240Z
LAST-MODIFIED:20260111T203250Z
UID:228874-1790874000-1790888400@www.junglecity.com
SUMMARY:航空博物館　無料入館日（午後5時〜午後9時）
DESCRIPTION:キング郡国際空港『ボーイング・フィールド』の敷地内、ボーイング社（※）の創業の地にある航空・宇宙の博物館。ダウンタウンの南約5マイル（約8km）、シアトル・タコマ国際空港の北約9マイル（約15km）のところに位置しています。 \n\n\n\n \n\n\n\n米国西海岸では最大かつ最も完成度の高い航空機のセレクションを見られるところで、さまざまな航空機が展示に加え、航空産業と宇宙産業の歴史と発展についての展示、ボーイング・フィールドを見渡せる『The Tower』で管制塔とパイロットとの交信が聴けるコーナー、体験型のシミュレーションなどがあり、飛行機好きなら一日中楽しめます。 \n\n\n\n \n\n\n\n※ボーイングは2001年に本社をシカゴに移転。民間航空機部門・防衛部門・宇宙部門などを合わせ、全米最大の輸出企業として14万人以上の従業員を擁しています。
URL:https://www.junglecity.com/event/museum-of-flight-free-2026-10/
LOCATION:The Museum of Flight\, 9404 East Marginal Way South\, Seattle\, ワシントン\, 98108\, 米国
ATTACH;FMTTYPE=image/jpeg:https://www.junglecity.com/wp-content/uploads/2023/02/museum-of-flight-12.jpg
END:VEVENT
BEGIN:VEVENT
DTSTART;TZID=America/Los_Angeles:20261105T000000
DTEND;TZID=America/Los_Angeles:20261105T235959
DTSTAMP:20260421T122042
CREATED:20260111T204228Z
LAST-MODIFIED:20260111T204229Z
UID:228919-1793836800-1793923199@www.junglecity.com
SUMMARY:シアトル美術館　無料入館日
DESCRIPTION:毎月第1木曜は、シアトル美術館の無料開放日。常設展と特別展の両方を見ることができます。 \n\n\n\n \n\n\n\nシアトルでは、頭文字をとって 『SAM』（サム）と呼ばれるシアトル美術館。建物の南側にある、ハンマーを打ち下ろす黒い大きな彫刻 『ハマリング・マン（Hammering Man）』 が目印。 \n\n\n\n \n\n\n\n【駐車】 路上駐車・有料駐車場
URL:https://www.junglecity.com/event/sam-free-admission-2026-11/
LOCATION:Seattle Art Museum\, 1300 First Avenue\, Seattle\, ワシントン\, 98101\, 米国
ATTACH;FMTTYPE=image/jpeg:https://www.junglecity.com/wp-content/uploads/2019/03/sam-gallery-space-1.jpg
END:VEVENT
BEGIN:VEVENT
DTSTART;TZID=America/Los_Angeles:20261105T100000
DTEND;TZID=America/Los_Angeles:20261105T160000
DTSTAMP:20260421T122042
CREATED:20260111T221936Z
LAST-MODIFIED:20260111T221937Z
UID:228976-1793872800-1793894400@www.junglecity.com
SUMMARY:シアトル日本庭園　無料入園日
DESCRIPTION:シアトル日本庭園は、日本の著名な造園家、飯田十基（いいだ じゅうき）氏の指導のもと設計された日本庭園。ワシントン・パーク樹木園内に1960年に開園し、約3.5エーカー（約1.4ヘクタール）の敷地には日本の伝統的なデザインが施されています。 \n\n\n\n \n\n\n\n庭園内には、曲がりくねった小道や石灯籠、色鮮やかな鯉が泳ぐ中央の池があり、春の桜、秋の紅葉、冬の静寂など、四季折々の変化が楽しめます。 \n\n\n\n \n\n\n\nまた、茶道や芸術作品の展示、ガイドツアーなどのイベントも開催され、日本文化や庭園哲学を深く学ぶ機会も提供されています。 \n\n\n\n \n\n\n\n\n\n \n\n\n\n\n\n \n\n\n			\n				\n					あわせて読みたい\n										\n						シアトルとその近郊にある美しい日本庭園や植物園\n						シアトルとその近郊には、伝統的な日本庭園や美しいバラ園、シャクナゲ園、そして研究機関として世界的に評価される植物園が数多く点在しています。これらの庭園では、…
URL:https://www.junglecity.com/event/japanese-garden-free-2026-11/
LOCATION:The Seattle Japanese Garden\, 1075 E Lk Washington Blvd\, Seattle\, WA 98112\, Seattle\, WASHINGTON\, 98112\, 米国
ATTACH;FMTTYPE=image/jpeg:https://www.junglecity.com/wp-content/uploads/2025/02/seattle-japanese-garden-15.jpg
END:VEVENT
BEGIN:VEVENT
DTSTART;TZID=America/Los_Angeles:20261105T100000
DTEND;TZID=America/Los_Angeles:20261105T160000
DTSTAMP:20260421T122042
CREATED:20260111T222644Z
LAST-MODIFIED:20260111T222645Z
UID:229003-1793872800-1793894400@www.junglecity.com
SUMMARY:ボランティアパーク温室　無料入館日
DESCRIPTION:キャピトル・ヒルにあるボランティア・パークにある温室は、1912年に開館しました。英国のクリスタルパレスに着想を得たビクトリア様式の建築で、ヤシ、シダ、ブロメリア、サボテン・多肉植物、季節展示など、世界各地の植物を複数の展示室で紹介しています。寄贈によって始まった蘭の展示も有名。 \n\n\n\n \n\n\n\n通常の開館時間は火曜から日曜の午前10時から午後4時まで、月曜休館。入館料は大人約6ドル。毎月第1木曜は全員無料、毎月第1土曜は12歳以下無料（有料の大人同伴の場合のみ）。
URL:https://www.junglecity.com/event/volunteer-park-conservatory-2026-11/
LOCATION:Volunteer Park\, 1247 15th Avenue East\, Seattle\, ワシントン\, 米国
ATTACH;FMTTYPE=image/jpeg:https://www.junglecity.com/wp-content/uploads/2022/03/volunteer-park-3.jpg
END:VEVENT
BEGIN:VEVENT
DTSTART;TZID=America/Los_Angeles:20261105T100000
DTEND;TZID=America/Los_Angeles:20261105T170000
DTSTAMP:20260421T122042
CREATED:20260111T202103Z
LAST-MODIFIED:20260111T202104Z
UID:228814-1793872800-1793898000@www.junglecity.com
SUMMARY:国立ノルディック博物館　無料入館日
DESCRIPTION:　 \n\n\n\nスカンジナビア諸国の1万2000年に及ぶ歴史と、ここ米国北西部に移り住んだスカンジナビア諸国出身者の文化と歴史を知ることができる博物館。第1木曜日は、常設展の観賞は無料、特別展の観賞は別途5ドルとなります。 \n\n\n\n \n\n\n\n北欧テイストが随所に感じられる、美しくてスタイリッシュな博物館は、足を運んでみる価値ありです。 \n\n\n\n \n\n\n\n入館料は無料ですが、事前に無料の入場券をオンラインで入手する必要があります。
URL:https://www.junglecity.com/event/nordic-museum-free-2026-11/
LOCATION:National Nordic Museum\, 2655 NW Market Street\, Seattle\, WA\, 98021\, 米国
ATTACH;FMTTYPE=image/jpeg:https://www.junglecity.com/wp-content/uploads/2020/08/nordic-museum-4.jpg
END:VEVENT
BEGIN:VEVENT
DTSTART;TZID=America/Los_Angeles:20261105T100000
DTEND;TZID=America/Los_Angeles:20261105T170000
DTSTAMP:20260421T122042
CREATED:20260111T204734Z
LAST-MODIFIED:20260111T204735Z
UID:228942-1793872800-1793898000@www.junglecity.com
SUMMARY:シアトル・アジア美術館　無料入館日
DESCRIPTION:キャピトル・ヒルの緑豊かなボランティア・パーク内にあるシアトル・アジア美術館は、アメリカでは数少ないアジア美術専門の美術館です。14歳以下は常時無料。 \n\n\n\n \n\n\n\n1933年に完成したアールデコ調の建物には、当初はシアトル美術館の主要コレクションが展示されていましたが、ダウンタウンにシアトル美術館が新設されたことを機に、創設ディレクターのリチャード・E・フラー博士とその家族が1900年代初期から収集していたアジアの美術品を中心としたアジア美術専門の美術館として、1994年に開館しました。2020年に大規模な再改築を終え、ますます見どころの多い美術館となっています。 \n\n\n\n \n\n\n			\n				\n					あわせて読みたい\n										\n						ボランティア・パークで楽しむアートと自然｜シアトル・アジア美術館の見どころガイド\n						シアトル・アジア美術館は、キャピトル・ヒルにある緑豊かなボランティア・パーク内に位置する、美しいアールデコ様式の建物が目印の美術館です。 1933年に建てられ、か…
URL:https://www.junglecity.com/event/saam-free-2026-11/
LOCATION:Seattle Asian Art Museum\, 1400 East Prospect Street\, Seattle\, ワシントン\, 98112\, 米国
ATTACH;FMTTYPE=image/jpeg:https://www.junglecity.com/wp-content/uploads/2020/02/saam-2020-2.jpg
END:VEVENT
BEGIN:VEVENT
DTSTART;TZID=America/Los_Angeles:20261105T100000
DTEND;TZID=America/Los_Angeles:20261105T190000
DTSTAMP:20260421T122042
CREATED:20260111T202816Z
LAST-MODIFIED:20260111T202817Z
UID:228854-1793872800-1793905200@www.junglecity.com
SUMMARY:ヘンリー・アートギャラリー 無料入館日
DESCRIPTION:ヘンリー・アートギャラリーは、ワシントン大学にある、現代アートにフォーカスしたアートギャラリーです。1926年にシアトルの実業家ホレース・C・ヘンリー氏とその妻スーザンが収集した178点の美術作品をワシントン大学に寄贈し、建設資金も提供したことにより、新しい建物が建設され、1927年2月10日に一般公開されました。 \n\n\n\n \n\n\n\n設立当初から、ヘンリー・アートギャラリーは地域で初めて世界的に有名な現代アーティストを紹介し、新進気鋭の才能を支援し、著名なアーティストによる新作を初公開しています。また、パシフィック・ノースウェストの重要な新進アーティストの紹介にも努めています。 \n\n\n\n \n\n\n\n1997年には大規模な拡張工事が完了し、展示や公開プログラムを拡充し、所蔵作品の保存と展示が強化されました。2003年にはジェームズ・タレルによる『スカイスペース ライト・レイン』という没入型彫刻が完成し、名所となっています。 \n\n\n\n会場
URL:https://www.junglecity.com/event/henry-art-gallery-free-2026-11/
LOCATION:Henry Art Gallery\, 15th Ave NE & University of Washington\, NE 41st St\, Seattle\, Washington\, 98195\, United States
ATTACH;FMTTYPE=image/jpeg:https://www.junglecity.com/wp-content/uploads/2024/11/henry-art-1.jpg
END:VEVENT
BEGIN:VEVENT
DTSTART;TZID=America/Los_Angeles:20261105T100000
DTEND;TZID=America/Los_Angeles:20261105T200000
DTSTAMP:20260421T122042
CREATED:20260111T202446Z
LAST-MODIFIED:20260111T202447Z
UID:228834-1793872800-1793908800@www.junglecity.com
SUMMARY:バーク博物館　無料入館日
DESCRIPTION:毎月第1木曜日は、ワシントン大学のキャンパスにあるバーク博物館の無料入館日。 \n\n\n\n \n\n\n\n1階から4階まである展示では、ワシントン州で発掘された化石、在来植物、自然の変化、開発の歴史、ネイティブ・アメリカンの芸術と歴史などについて学ぶことができます。 \n\n\n\n \n\n\n\n1階にあるカフェ『Off the Rez』で、ネイティブ・アメリカンの伝統的なフライブレッドをぜひ。 \n\n\n\n \n\n\n\nバーク博物館は、若手博物学者が構成する Young Naturalists Society によってワシントン大学のキャンパスに設立され、1899年にワシントン州議会によってワシントン州立の博物館となりました。2019年10月に現在の建物が完成し、移転オープンしました。 \n\n\n\n \n\n\n\n【駐車】 路上駐車・有料駐車場
URL:https://www.junglecity.com/event/burke-museum-free-2026-11/
LOCATION:Burke Museum\, 17th Avenue NE & NE 45th Street\, Seattle\, ワシントン\, 98195\, 米国
ATTACH;FMTTYPE=image/jpeg:https://www.junglecity.com/wp-content/uploads/2019/10/burke-museum-2.jpg
END:VEVENT
BEGIN:VEVENT
DTSTART;TZID=America/Los_Angeles:20261105T170000
DTEND;TZID=America/Los_Angeles:20261105T200000
DTSTAMP:20260421T122042
CREATED:20260111T203721Z
LAST-MODIFIED:20260111T203721Z
UID:228897-1793898000-1793908800@www.junglecity.com
SUMMARY:シアトル歴史産業博物館（MOHAI）無料入館日（第1木曜 午後5時〜午後8時）
DESCRIPTION:シアトルを中心とした米国北西部の産業と歴史にまつわる展示が楽しめるシアトル歴史産業博物館。地元では頭文字を取って、『MOHAI』（モハイ）と呼ばれています。 \n\n\n\n \n\n\n\n海や湖に囲まれた土地ならではの海洋産業とのかかわり『Maritime Seattle』、シアトルの歴史を学べる展示 『True Northwest』、世界の人々に影響を与えたシアトル発の発明を紹介する 『Bezos Center for Innovation』 などの常設展示のほか、期間限定の特別展示も楽しめます。 \n\n\n\n \n\n\n\n【開館時間】 10am-8pm ※常設展が無料の時間は5pm-8pm【入館料】 常設展は無料、特別展は別料金【駐車】 有料路上駐車・有料駐車場
URL:https://www.junglecity.com/event/free-admission-mohai-2026-11/
LOCATION:Museum of History & Industry\, 860 Terry Avenue North\, Seattle\, ワシントン
ATTACH;FMTTYPE=image/jpeg:https://www.junglecity.com/wp-content/uploads/2021/07/mohai-10.jpg
END:VEVENT
BEGIN:VEVENT
DTSTART;TZID=America/Los_Angeles:20261105T170000
DTEND;TZID=America/Los_Angeles:20261105T210000
DTSTAMP:20260421T122042
CREATED:20260111T201621Z
LAST-MODIFIED:20260113T224409Z
UID:228795-1793898000-1793912400@www.junglecity.com
SUMMARY:パイオニア・スクエア　アートウォーク
DESCRIPTION:シアトルのパイオニア・スクエアで毎月第1木曜日に開催される「ファースト・サーズデー・アートウォーク（First Thursday Art Walk）」。 \n\n\n\n \n\n\n\n1981年から続く、全米で最も歴史の長いアートウォークです。パイオニア・スクエアにある多数のギャラリー、アートスタジオ、地元ビジネスをそれぞれのペースで巡り、アート作品を鑑賞したり、アーティストと直接交流したりすることができるようになっています。地元のカフェやショップとのコラボも多く、夕方から夜にかけてカルチャーとコミュニティが融合する時間を楽しめます。 \n\n\n\nアクセス・駐車情報\n\n\n\n午後5時〜10時の間、指定の駐車場にて無料駐車が可能です。参加ギャラリーやショップなどで無料駐車引換券（Free Parking Voucher）を受け取って記入し、帰宅する際に駐車場で係員に渡すことで、無料駐車が適用されます。詳細はこちら。 \n\n\n\n\nFrye Garage（117 3rd Avenue South）\n\n\n\nButler Garage（114 James Street）\n\n\n\n450 Alaskan（450 Alaskan Way）※ King Street に入口あり\n\n\n\n\n \n\n\n\n会場\n\n\n\nパイオニア・スクエア全体が会場となり、点在しているギャラリーで作品を展示しています。詳細は公式サイトでご覧ください。
URL:https://www.junglecity.com/event/first-thursday-art-walk-2026-11/
LOCATION:Pioneer Square/Actualize AiR\, 112 Prefontaine Place South\, Seattle\, Washington\, United States
ATTACH;FMTTYPE=image/jpeg:https://www.junglecity.com/wp-content/uploads/2025/04/pioneer-square-art-walk-1.jpg
END:VEVENT
BEGIN:VEVENT
DTSTART;TZID=America/Los_Angeles:20261105T170000
DTEND;TZID=America/Los_Angeles:20261105T210000
DTSTAMP:20260421T122042
CREATED:20260111T203306Z
LAST-MODIFIED:20260111T203307Z
UID:228876-1793898000-1793912400@www.junglecity.com
SUMMARY:航空博物館　無料入館日（午後5時〜午後9時）
DESCRIPTION:キング郡国際空港『ボーイング・フィールド』の敷地内、ボーイング社（※）の創業の地にある航空・宇宙の博物館。ダウンタウンの南約5マイル（約8km）、シアトル・タコマ国際空港の北約9マイル（約15km）のところに位置しています。 \n\n\n\n \n\n\n\n米国西海岸では最大かつ最も完成度の高い航空機のセレクションを見られるところで、さまざまな航空機が展示に加え、航空産業と宇宙産業の歴史と発展についての展示、ボーイング・フィールドを見渡せる『The Tower』で管制塔とパイロットとの交信が聴けるコーナー、体験型のシミュレーションなどがあり、飛行機好きなら一日中楽しめます。 \n\n\n\n \n\n\n\n※ボーイングは2001年に本社をシカゴに移転。民間航空機部門・防衛部門・宇宙部門などを合わせ、全米最大の輸出企業として14万人以上の従業員を擁しています。
URL:https://www.junglecity.com/event/museum-of-flight-free-2026-11/
LOCATION:The Museum of Flight\, 9404 East Marginal Way South\, Seattle\, ワシントン\, 98108\, 米国
ATTACH;FMTTYPE=image/jpeg:https://www.junglecity.com/wp-content/uploads/2023/02/museum-of-flight-12.jpg
END:VEVENT
BEGIN:VEVENT
DTSTART;TZID=America/Los_Angeles:20261203T000000
DTEND;TZID=America/Los_Angeles:20261203T235959
DTSTAMP:20260421T122042
CREATED:20260111T204245Z
LAST-MODIFIED:20260111T204246Z
UID:228921-1796256000-1796342399@www.junglecity.com
SUMMARY:シアトル美術館　無料入館日
DESCRIPTION:毎月第1木曜は、シアトル美術館の無料開放日。常設展と特別展の両方を見ることができます。 \n\n\n\n \n\n\n\nシアトルでは、頭文字をとって 『SAM』（サム）と呼ばれるシアトル美術館。建物の南側にある、ハンマーを打ち下ろす黒い大きな彫刻 『ハマリング・マン（Hammering Man）』 が目印。 \n\n\n\n \n\n\n\n【駐車】 路上駐車・有料駐車場
URL:https://www.junglecity.com/event/sam-free-admission-2026-12/
LOCATION:Seattle Art Museum\, 1300 First Avenue\, Seattle\, ワシントン\, 98101\, 米国
ATTACH;FMTTYPE=image/jpeg:https://www.junglecity.com/wp-content/uploads/2019/03/sam-gallery-space-1.jpg
END:VEVENT
BEGIN:VEVENT
DTSTART;TZID=America/Los_Angeles:20261203T100000
DTEND;TZID=America/Los_Angeles:20261203T160000
DTSTAMP:20260421T122042
CREATED:20260111T222705Z
LAST-MODIFIED:20260111T222706Z
UID:229005-1796292000-1796313600@www.junglecity.com
SUMMARY:ボランティアパーク温室　無料入館日
DESCRIPTION:キャピトル・ヒルにあるボランティア・パークにある温室は、1912年に開館しました。英国のクリスタルパレスに着想を得たビクトリア様式の建築で、ヤシ、シダ、ブロメリア、サボテン・多肉植物、季節展示など、世界各地の植物を複数の展示室で紹介しています。寄贈によって始まった蘭の展示も有名。 \n\n\n\n \n\n\n\n通常の開館時間は火曜から日曜の午前10時から午後4時まで、月曜休館。入館料は大人約6ドル。毎月第1木曜は全員無料、毎月第1土曜は12歳以下無料（有料の大人同伴の場合のみ）。
URL:https://www.junglecity.com/event/volunteer-park-conservatory-2026-12/
LOCATION:Volunteer Park\, 1247 15th Avenue East\, Seattle\, ワシントン\, 米国
ATTACH;FMTTYPE=image/jpeg:https://www.junglecity.com/wp-content/uploads/2022/03/volunteer-park-3.jpg
END:VEVENT
BEGIN:VEVENT
DTSTART;TZID=America/Los_Angeles:20261203T100000
DTEND;TZID=America/Los_Angeles:20261203T170000
DTSTAMP:20260421T122042
CREATED:20260111T202122Z
LAST-MODIFIED:20260111T202122Z
UID:228816-1796292000-1796317200@www.junglecity.com
SUMMARY:国立ノルディック博物館　無料入館日
DESCRIPTION:　 \n\n\n\nスカンジナビア諸国の1万2000年に及ぶ歴史と、ここ米国北西部に移り住んだスカンジナビア諸国出身者の文化と歴史を知ることができる博物館。第1木曜日は、常設展の観賞は無料、特別展の観賞は別途5ドルとなります。 \n\n\n\n \n\n\n\n北欧テイストが随所に感じられる、美しくてスタイリッシュな博物館は、足を運んでみる価値ありです。 \n\n\n\n \n\n\n\n入館料は無料ですが、事前に無料の入場券をオンラインで入手する必要があります。
URL:https://www.junglecity.com/event/nordic-museum-free-2026-12/
LOCATION:National Nordic Museum\, 2655 NW Market Street\, Seattle\, WA\, 98021\, 米国
ATTACH;FMTTYPE=image/jpeg:https://www.junglecity.com/wp-content/uploads/2020/08/nordic-museum-4.jpg
END:VEVENT
BEGIN:VEVENT
DTSTART;TZID=America/Los_Angeles:20261203T100000
DTEND;TZID=America/Los_Angeles:20261203T170000
DTSTAMP:20260421T122042
CREATED:20260111T204752Z
LAST-MODIFIED:20260111T204753Z
UID:228944-1796292000-1796317200@www.junglecity.com
SUMMARY:シアトル・アジア美術館　無料入館日
DESCRIPTION:キャピトル・ヒルの緑豊かなボランティア・パーク内にあるシアトル・アジア美術館は、アメリカでは数少ないアジア美術専門の美術館です。14歳以下は常時無料。 \n\n\n\n \n\n\n\n1933年に完成したアールデコ調の建物には、当初はシアトル美術館の主要コレクションが展示されていましたが、ダウンタウンにシアトル美術館が新設されたことを機に、創設ディレクターのリチャード・E・フラー博士とその家族が1900年代初期から収集していたアジアの美術品を中心としたアジア美術専門の美術館として、1994年に開館しました。2020年に大規模な再改築を終え、ますます見どころの多い美術館となっています。 \n\n\n\n \n\n\n			\n				\n					あわせて読みたい\n										\n						ボランティア・パークで楽しむアートと自然｜シアトル・アジア美術館の見どころガイド\n						シアトル・アジア美術館は、キャピトル・ヒルにある緑豊かなボランティア・パーク内に位置する、美しいアールデコ様式の建物が目印の美術館です。 1933年に建てられ、か…
URL:https://www.junglecity.com/event/saam-free-2026-12/
LOCATION:Seattle Asian Art Museum\, 1400 East Prospect Street\, Seattle\, ワシントン\, 98112\, 米国
ATTACH;FMTTYPE=image/jpeg:https://www.junglecity.com/wp-content/uploads/2020/02/saam-2020-2.jpg
END:VEVENT
BEGIN:VEVENT
DTSTART;TZID=America/Los_Angeles:20261203T100000
DTEND;TZID=America/Los_Angeles:20261203T190000
DTSTAMP:20260421T122042
CREATED:20260111T202835Z
LAST-MODIFIED:20260111T202835Z
UID:228856-1796292000-1796324400@www.junglecity.com
SUMMARY:ヘンリー・アートギャラリー 無料入館日
DESCRIPTION:ヘンリー・アートギャラリーは、ワシントン大学にある、現代アートにフォーカスしたアートギャラリーです。1926年にシアトルの実業家ホレース・C・ヘンリー氏とその妻スーザンが収集した178点の美術作品をワシントン大学に寄贈し、建設資金も提供したことにより、新しい建物が建設され、1927年2月10日に一般公開されました。 \n\n\n\n \n\n\n\n設立当初から、ヘンリー・アートギャラリーは地域で初めて世界的に有名な現代アーティストを紹介し、新進気鋭の才能を支援し、著名なアーティストによる新作を初公開しています。また、パシフィック・ノースウェストの重要な新進アーティストの紹介にも努めています。 \n\n\n\n \n\n\n\n1997年には大規模な拡張工事が完了し、展示や公開プログラムを拡充し、所蔵作品の保存と展示が強化されました。2003年にはジェームズ・タレルによる『スカイスペース ライト・レイン』という没入型彫刻が完成し、名所となっています。 \n\n\n\n会場
URL:https://www.junglecity.com/event/henry-art-gallery-free-2026-12/
LOCATION:Henry Art Gallery\, 15th Ave NE & University of Washington\, NE 41st St\, Seattle\, Washington\, 98195\, United States
ATTACH;FMTTYPE=image/jpeg:https://www.junglecity.com/wp-content/uploads/2024/11/henry-art-1.jpg
END:VEVENT
BEGIN:VEVENT
DTSTART;TZID=America/Los_Angeles:20261203T100000
DTEND;TZID=America/Los_Angeles:20261203T200000
DTSTAMP:20260421T122042
CREATED:20260111T202510Z
LAST-MODIFIED:20260111T202511Z
UID:228836-1796292000-1796328000@www.junglecity.com
SUMMARY:バーク博物館　無料入館日
DESCRIPTION:毎月第1木曜日は、ワシントン大学のキャンパスにあるバーク博物館の無料入館日。 \n\n\n\n \n\n\n\n1階から4階まである展示では、ワシントン州で発掘された化石、在来植物、自然の変化、開発の歴史、ネイティブ・アメリカンの芸術と歴史などについて学ぶことができます。 \n\n\n\n \n\n\n\n1階にあるカフェ『Off the Rez』で、ネイティブ・アメリカンの伝統的なフライブレッドをぜひ。 \n\n\n\n \n\n\n\nバーク博物館は、若手博物学者が構成する Young Naturalists Society によってワシントン大学のキャンパスに設立され、1899年にワシントン州議会によってワシントン州立の博物館となりました。2019年10月に現在の建物が完成し、移転オープンしました。 \n\n\n\n \n\n\n\n【駐車】 路上駐車・有料駐車場
URL:https://www.junglecity.com/event/burke-museum-free-2026-12/
LOCATION:Burke Museum\, 17th Avenue NE & NE 45th Street\, Seattle\, ワシントン\, 98195\, 米国
ATTACH;FMTTYPE=image/jpeg:https://www.junglecity.com/wp-content/uploads/2019/10/burke-museum-2.jpg
END:VEVENT
BEGIN:VEVENT
DTSTART;TZID=America/Los_Angeles:20261203T170000
DTEND;TZID=America/Los_Angeles:20261203T200000
DTSTAMP:20260421T122042
CREATED:20260111T203739Z
LAST-MODIFIED:20260111T203739Z
UID:228899-1796317200-1796328000@www.junglecity.com
SUMMARY:シアトル歴史産業博物館（MOHAI）無料入館日（第1木曜 午後5時〜午後8時）
DESCRIPTION:シアトルを中心とした米国北西部の産業と歴史にまつわる展示が楽しめるシアトル歴史産業博物館。地元では頭文字を取って、『MOHAI』（モハイ）と呼ばれています。 \n\n\n\n \n\n\n\n海や湖に囲まれた土地ならではの海洋産業とのかかわり『Maritime Seattle』、シアトルの歴史を学べる展示 『True Northwest』、世界の人々に影響を与えたシアトル発の発明を紹介する 『Bezos Center for Innovation』 などの常設展示のほか、期間限定の特別展示も楽しめます。 \n\n\n\n \n\n\n\n【開館時間】 10am-8pm ※常設展が無料の時間は5pm-8pm【入館料】 常設展は無料、特別展は別料金【駐車】 有料路上駐車・有料駐車場
URL:https://www.junglecity.com/event/free-admission-mohai-2026-12/
LOCATION:Museum of History & Industry\, 860 Terry Avenue North\, Seattle\, ワシントン
ATTACH;FMTTYPE=image/jpeg:https://www.junglecity.com/wp-content/uploads/2021/07/mohai-10.jpg
END:VEVENT
BEGIN:VEVENT
DTSTART;TZID=America/Los_Angeles:20261203T170000
DTEND;TZID=America/Los_Angeles:20261203T210000
DTSTAMP:20260421T122042
CREATED:20260111T201641Z
LAST-MODIFIED:20260113T224433Z
UID:228797-1796317200-1796331600@www.junglecity.com
SUMMARY:パイオニア・スクエア　アートウォーク
DESCRIPTION:シアトルのパイオニア・スクエアで毎月第1木曜日に開催される「ファースト・サーズデー・アートウォーク（First Thursday Art Walk）」。 \n\n\n\n \n\n\n\n1981年から続く、全米で最も歴史の長いアートウォークです。パイオニア・スクエアにある多数のギャラリー、アートスタジオ、地元ビジネスをそれぞれのペースで巡り、アート作品を鑑賞したり、アーティストと直接交流したりすることができるようになっています。地元のカフェやショップとのコラボも多く、夕方から夜にかけてカルチャーとコミュニティが融合する時間を楽しめます。 \n\n\n\nアクセス・駐車情報\n\n\n\n午後5時〜10時の間、指定の駐車場にて無料駐車が可能です。参加ギャラリーやショップなどで無料駐車引換券（Free Parking Voucher）を受け取って記入し、帰宅する際に駐車場で係員に渡すことで、無料駐車が適用されます。詳細はこちら。 \n\n\n\n\nFrye Garage（117 3rd Avenue South）\n\n\n\nButler Garage（114 James Street）\n\n\n\n450 Alaskan（450 Alaskan Way）※ King Street に入口あり\n\n\n\n\n \n\n\n\n会場\n\n\n\nパイオニア・スクエア全体が会場となり、点在しているギャラリーで作品を展示しています。詳細は公式サイトでご覧ください。
URL:https://www.junglecity.com/event/first-thursday-art-walk-2026-12/
LOCATION:Pioneer Square/Actualize AiR\, 112 Prefontaine Place South\, Seattle\, Washington\, United States
ATTACH;FMTTYPE=image/jpeg:https://www.junglecity.com/wp-content/uploads/2025/04/pioneer-square-art-walk-1.jpg
END:VEVENT
BEGIN:VEVENT
DTSTART;TZID=America/Los_Angeles:20261203T170000
DTEND;TZID=America/Los_Angeles:20261203T210000
DTSTAMP:20260421T122042
CREATED:20260111T203325Z
LAST-MODIFIED:20260111T203326Z
UID:228878-1796317200-1796331600@www.junglecity.com
SUMMARY:航空博物館　無料入館日（午後5時〜午後9時）
DESCRIPTION:キング郡国際空港『ボーイング・フィールド』の敷地内、ボーイング社（※）の創業の地にある航空・宇宙の博物館。ダウンタウンの南約5マイル（約8km）、シアトル・タコマ国際空港の北約9マイル（約15km）のところに位置しています。 \n\n\n\n \n\n\n\n米国西海岸では最大かつ最も完成度の高い航空機のセレクションを見られるところで、さまざまな航空機が展示に加え、航空産業と宇宙産業の歴史と発展についての展示、ボーイング・フィールドを見渡せる『The Tower』で管制塔とパイロットとの交信が聴けるコーナー、体験型のシミュレーションなどがあり、飛行機好きなら一日中楽しめます。 \n\n\n\n \n\n\n\n※ボーイングは2001年に本社をシカゴに移転。民間航空機部門・防衛部門・宇宙部門などを合わせ、全米最大の輸出企業として14万人以上の従業員を擁しています。
URL:https://www.junglecity.com/event/museum-of-flight-free-2026-12/
LOCATION:The Museum of Flight\, 9404 East Marginal Way South\, Seattle\, ワシントン\, 98108\, 米国
ATTACH;FMTTYPE=image/jpeg:https://www.junglecity.com/wp-content/uploads/2023/02/museum-of-flight-12.jpg
END:VEVENT
END:VCALENDAR