BEGIN:VCALENDAR
VERSION:2.0
PRODID:-//junglecity.com - ECPv6.15.12.2//NONSGML v1.0//EN
CALSCALE:GREGORIAN
METHOD:PUBLISH
X-WR-CALNAME:junglecity.com
X-ORIGINAL-URL:https://www.junglecity.com
X-WR-CALDESC:junglecity.com のイベント
REFRESH-INTERVAL;VALUE=DURATION:PT1H
X-Robots-Tag:noindex
X-PUBLISHED-TTL:PT1H
BEGIN:VTIMEZONE
TZID:America/Los_Angeles
BEGIN:DAYLIGHT
TZOFFSETFROM:-0800
TZOFFSETTO:-0700
TZNAME:PDT
DTSTART:20240310T100000
END:DAYLIGHT
BEGIN:STANDARD
TZOFFSETFROM:-0700
TZOFFSETTO:-0800
TZNAME:PST
DTSTART:20241103T090000
END:STANDARD
BEGIN:DAYLIGHT
TZOFFSETFROM:-0800
TZOFFSETTO:-0700
TZNAME:PDT
DTSTART:20250309T100000
END:DAYLIGHT
BEGIN:STANDARD
TZOFFSETFROM:-0700
TZOFFSETTO:-0800
TZNAME:PST
DTSTART:20251102T090000
END:STANDARD
BEGIN:DAYLIGHT
TZOFFSETFROM:-0800
TZOFFSETTO:-0700
TZNAME:PDT
DTSTART:20260308T100000
END:DAYLIGHT
BEGIN:STANDARD
TZOFFSETFROM:-0700
TZOFFSETTO:-0800
TZNAME:PST
DTSTART:20261101T090000
END:STANDARD
END:VTIMEZONE
BEGIN:VEVENT
DTSTART;TZID=America/Los_Angeles:20250312T000000
DTEND;TZID=America/Los_Angeles:20250907T235959
DTSTAMP:20260423T230945
CREATED:20250321T040645Z
LAST-MODIFIED:20250321T041419Z
UID:220090-1741737600-1757289599@www.junglecity.com
SUMMARY:シアトル美術館：Ai\, Rebel: The Art and Activism of Ai Weiwei
DESCRIPTION:Ai Wei WeiIllumination\, 2019 (2024 exhibition copy)WOMA bricksOverall: 121 1/4 x 151 9/16 in. (308 x 385cm)\n\n\n\n \n\n\n\n「すべてがアートであり、すべてが政治である」 \n\n\n\n \n\n\n\n世界的に著名なアーティスト、アイ・ウェイウェイ（艾未未、1957年、中国生まれ）は、芸術の規範を打ち破る革新者であり、自由な表現の擁護者として知られています。 \n\n\n\n \n\n\n\nその作品は、パフォーマンス、写真、彫刻、映像、インスタレーションと多岐にわたり、ユーモアと挑発を用いて、見る者に歴史、社会、文化について問いかけます。 \n\n\n\n \n\n\n\nシアトル美術館（SAM）の『Ai\, Rebel: The Art and Activism of Ai Weiwei』は、権力の形態に疑問を投げかけるアイ・ウェイウェイが1980年代から2020年代にかけて制作した130点以上の作品を展示する、アイ・ウェイウェイにとって米国では10年以上ぶりで最大規模の展覧会です。 \n\n\n\n \n\n\n\n代表作として、Dropping a Han Dynasty Urn（1995）、Study of Perspective（1995–2011）、Sunflower Seeds（2010）、Neolithic Vase with Coca Cola Logo (Gold) （2015）、Illumination（2019）などが展示されるほか、国際的に初公開となる作品も多数紹介されます。 \n\n\n\nシアトル美術館の全3館でアイ・ウェイウェイの作品を同時展示\n\n\n\nシアトル美術館（SAM）は、その90年の歴史の中で初めて、全3館で1人のアーティストの作品を同時展示します。ダウンタウンのシアトル美術館での大規模展示会に加え、キャピトル・ヒルのシアトル・アジア美術館では 『Ai Weiwei: Water Lilies』（2025年3月19日〜2026年3月15日）を開催。これは、クロード・モネの有名な『Water Lilies』（2022）をLEGOで再解釈した作品です。また、オリンピック・スカルプチャー・パークでは『Ai Weiwei: Circle of Animals/Zodiac Heads (Bronze)』（2025年5月17日〜2027年5月17日）を展示し、12体の巨大な青銅製彫刻による円形の作品を紹介します。 \n\n\n\n \n\n\n\nシアトルのさまざまな場所でアイ・ウェイウェイの作品に深く触れることができる貴重な機会をお見逃しなく。 \n\n\n\n\n\n\n\nアイ・ウェイウェイの作品には、挑発的またはセンシティブとみなされるものが含まれる場合があります。社会、政治、人権問題を扱った作品や、露骨な言葉や一部の観客にとって不快に感じられる可能性のある要素が含まれる作品もあります。 \n\n\n\n会場
URL:https://www.junglecity.com/event/ai-rebel-the-art-and-activism-of-ai-weiwei/
LOCATION:Seattle Art Museum\, 1300 First Avenue\, Seattle\, ワシントン\, 98101\, 米国
ATTACH;FMTTYPE=image/jpeg:https://www.junglecity.com/wp-content/uploads/2025/03/aiweiwei-self.jpg
END:VEVENT
END:VCALENDAR